BEGIN:VCALENDAR
VERSION:2.0
PRODID:-//Site de la commune d&#039;Argentonnay - ECPv4.5.13//NONSGML v1.0//EN
CALSCALE:GREGORIAN
METHOD:PUBLISH
X-WR-CALNAME:Site de la commune d&#039;Argentonnay
X-ORIGINAL-URL:https://www.argentonnay.fr
X-WR-CALDESC:Events for Site de la commune d&#039;Argentonnay
BEGIN:VEVENT
DTSTART;TZID=Europe/Paris:20250628T140000
DTEND;TZID=Europe/Paris:20250706T170000
DTSTAMP:20260421T052219
CREATED:20250617T144610Z
LAST-MODIFIED:20250617T144610Z
UID:11462-1751119200-1751821200@www.argentonnay.fr
SUMMARY:Exposition
DESCRIPTION:Exposition de Pierre de Chevilly « Paysages et autres rêves » du samedi 28 juin au dimanche 6 juillet de 14h à 19h\, a la salle des fêtes de d’Argenton les Vallées. \nVernissage de l’exposition le samedi 28 juin à 17h. \n
URL:https://www.argentonnay.fr/evenement/exposition/
CATEGORIES:Exposition
END:VEVENT
END:VCALENDAR