BEGIN:VCALENDAR
VERSION:2.0
PRODID:-//Site de la commune d&#039;Argentonnay - ECPv4.5.13//NONSGML v1.0//EN
CALSCALE:GREGORIAN
METHOD:PUBLISH
X-WR-CALNAME:Site de la commune d&#039;Argentonnay
X-ORIGINAL-URL:https://www.argentonnay.fr
X-WR-CALDESC:Events for Site de la commune d&#039;Argentonnay
BEGIN:VEVENT
DTSTART;TZID=Europe/Paris:20260324T100000
DTEND;TZID=Europe/Paris:20260530T170000
DTSTAMP:20260420T170639
CREATED:20260227T084040Z
LAST-MODIFIED:20260227T084041Z
UID:11896-1774346400-1780160400@www.argentonnay.fr
SUMMARY:Les herbiers d'Emilie Vast
DESCRIPTION:Exposition à la Bibliothèque d’Argentonnay \n
URL:https://www.argentonnay.fr/evenement/les-herbiers-demilie-vast/
CATEGORIES:Exposition
ATTACH;FMTTYPE=image/jpeg:https://www.argentonnay.fr/wp-content/uploads/2026/02/ARG-les-herbiers-demilie-vast_page-0001.jpg
END:VEVENT
END:VCALENDAR