BEGIN:VCALENDAR
VERSION:2.0
PRODID:-//Site de la commune d&#039;Argentonnay - ECPv4.5.13//NONSGML v1.0//EN
CALSCALE:GREGORIAN
METHOD:PUBLISH
X-WR-CALNAME:Site de la commune d&#039;Argentonnay
X-ORIGINAL-URL:https://www.argentonnay.fr
X-WR-CALDESC:Events for Site de la commune d&#039;Argentonnay
BEGIN:VEVENT
DTSTART;TZID=Europe/Paris:20221006T190000
DTEND;TZID=Europe/Paris:20221006T203000
DTSTAMP:20260420T133929
CREATED:20221003T121252Z
LAST-MODIFIED:20221003T121308Z
UID:9635-1665082800-1665088200@www.argentonnay.fr
SUMMARY:Atelier de relaxation
DESCRIPTION: Jeudi 6 Octobre : nous vous proposons un atelier de relaxation où vous retrouver un état de sérénité au son de divers instruments qui voyageront au sein de votre corps permettant à votre mental de se reposer. C’est un atelier qui nécessite une inscription. \n
URL:https://www.argentonnay.fr/evenement/atelier-de-relaxation/
LOCATION:2 Rue Francis Garnier - Argenton les Vallées\, Argentonnay\, 79150\, France
CATEGORIES:Atelier santé
END:VEVENT
END:VCALENDAR