BEGIN:VCALENDAR
VERSION:2.0
PRODID:-//Site de la commune d&#039;Argentonnay - ECPv4.5.13//NONSGML v1.0//EN
CALSCALE:GREGORIAN
METHOD:PUBLISH
X-WR-CALNAME:Site de la commune d&#039;Argentonnay
X-ORIGINAL-URL:https://www.argentonnay.fr
X-WR-CALDESC:Events for Site de la commune d&#039;Argentonnay
BEGIN:VEVENT
DTSTART;TZID=Europe/Paris:20190414T100000
DTEND;TZID=Europe/Paris:20190414T190000
DTSTAMP:20260420T142138
CREATED:20190413T061746Z
LAST-MODIFIED:20190413T061746Z
UID:6849-1555236000-1555268400@www.argentonnay.fr
SUMMARY:Ouverture du parc du château d'Argenton
DESCRIPTION:Au cours d’une déambulation venez découvrir les ruines de la forteresse médiévale qui surplombent toute la vallée et offrent un magnifique panorama. \n
URL:https://www.argentonnay.fr/evenement/ouverture-du-parc-du-chateau-dargenton-2/
CATEGORIES:Visite
ATTACH;FMTTYPE=image/jpeg:https://www.argentonnay.fr/wp-content/uploads/2019/04/Logo-amis-du-chateau-argenton.jpg
ORGANIZER;CN="Les%20Amis%20du%20Ch%C3%A2teau%20d%27Argenton":MAILTO:amischateau.argenton@laposte.net
END:VEVENT
END:VCALENDAR