BEGIN:VCALENDAR
VERSION:2.0
PRODID:-//Site de la commune d&#039;Argentonnay - ECPv4.5.13//NONSGML v1.0//EN
CALSCALE:GREGORIAN
METHOD:PUBLISH
X-WR-CALNAME:Site de la commune d&#039;Argentonnay
X-ORIGINAL-URL:https://www.argentonnay.fr
X-WR-CALDESC:Events for Site de la commune d&#039;Argentonnay
BEGIN:VEVENT
DTSTART;VALUE=DATE:20180318
DTEND;VALUE=DATE:20180318
DTSTAMP:20260421T082949
CREATED:20180316T085441Z
LAST-MODIFIED:20180316T085441Z
UID:5168-1521331200-1521417599@www.argentonnay.fr
SUMMARY:Printemps du cinéma
DESCRIPTION:Les séances de cinéma sont à 4€ \n
URL:https://www.argentonnay.fr/evenement/printemps-du-cinema/
ATTACH;FMTTYPE=image/jpeg:https://www.argentonnay.fr/wp-content/uploads/2018/03/film-2233658_960_720.jpg
END:VEVENT
END:VCALENDAR