BEGIN:VCALENDAR
VERSION:2.0
PRODID:-//Site de la commune d&#039;Argentonnay - ECPv4.5.13//NONSGML v1.0//EN
CALSCALE:GREGORIAN
METHOD:PUBLISH
X-WR-CALNAME:Site de la commune d&#039;Argentonnay
X-ORIGINAL-URL:https://www.argentonnay.fr
X-WR-CALDESC:Events for Site de la commune d&#039;Argentonnay
BEGIN:VEVENT
DTSTART;TZID=Europe/Paris:20180211T140000
DTEND;TZID=Europe/Paris:20180211T140000
DTSTAMP:20260421T081956
CREATED:20171222T090402Z
LAST-MODIFIED:20171222T100900Z
UID:4775-1518357600-1518357600@www.argentonnay.fr
SUMMARY:Randonnée pédestre
DESCRIPTION:\nLes 3A organisent une balade (8km) à Moncoutant \n« Les secrets de Moncoutant » \nDépart à 14h00 à la Place de l’Église de Moncoutant\n  \nContact : Robert et Catherine FRANCOIS (06 85 85 51 70) \n\n  \nDépart covoituré Rond Point du 4 août – Argenton les Vallées \nLes non licenciés randonnent sous leur propre responsabilité  \nLibre contribution au goûter pour les non licenciés \nN’oubliez pas votre gobelet \nLes chiens ne sont pas admis \n
URL:https://www.argentonnay.fr/evenement/randonnee-pedestre-12/
LOCATION:Argenton l'Eglise\, 79290\, France
ORGANIZER;CN="3A%20%28Association%20d%27Animation%20de%20l%27Argentonnais%29":MAILTO:herve.james@sfr.fr
END:VEVENT
END:VCALENDAR