BEGIN:VCALENDAR
VERSION:2.0
PRODID:-//Site de la commune d&#039;Argentonnay - ECPv4.5.13//NONSGML v1.0//EN
CALSCALE:GREGORIAN
METHOD:PUBLISH
X-WR-CALNAME:Site de la commune d&#039;Argentonnay
X-ORIGINAL-URL:https://www.argentonnay.fr
X-WR-CALDESC:Events for Site de la commune d&#039;Argentonnay
BEGIN:VEVENT
DTSTART;VALUE=DATE:20220515
DTEND;VALUE=DATE:20220515
DTSTAMP:20260420T174850
CREATED:20220411T140316Z
LAST-MODIFIED:20220411T140338Z
UID:9247-1652572800-1652659199@www.argentonnay.fr
SUMMARY:Vide grenier
DESCRIPTION:VIDE-GRENIER le dimanche 15 Mai\, à Argenton les Vallées\, autour des halles\, sur les places \nde 7 h à 18 h. 1\,50 € le m. linéaire. Renseignements et réservations aux  05 49 65 78 42 & 06 88 71 21 97\nFish and chips\, à partir de midi. Réservations repas et table : 06 30 33 66 83. \n
URL:https://www.argentonnay.fr/evenement/vide-grenier-8/
END:VEVENT
END:VCALENDAR