BEGIN:VCALENDAR
VERSION:2.0
PRODID:-//Site de la commune d&#039;Argentonnay - ECPv4.5.13//NONSGML v1.0//EN
CALSCALE:GREGORIAN
METHOD:PUBLISH
X-WR-CALNAME:Site de la commune d&#039;Argentonnay
X-ORIGINAL-URL:https://www.argentonnay.fr
X-WR-CALDESC:Events for Site de la commune d&#039;Argentonnay
BEGIN:VEVENT
DTSTART;TZID=Europe/Paris:20240731T180000
DTEND;TZID=Europe/Paris:20240731T190000
DTSTAMP:20260421T065724
CREATED:20240705T101051Z
LAST-MODIFIED:20240705T101052Z
UID:10786-1722448800-1722452400@www.argentonnay.fr
SUMMARY:Visite commentée du château d'Argenton
DESCRIPTION:Visite commentée du château. \n3 euros plus de 16 ans \n
URL:https://www.argentonnay.fr/evenement/visite-commentee-du-chateau-dargenton-17/
CATEGORIES:Visite
ORGANIZER;CN="Les%20Amis%20du%20Ch%C3%A2teau%20d%27Argenton":MAILTO:amischateau.argenton@laposte.net
END:VEVENT
END:VCALENDAR